View In:
ArcGIS JavaScript
ArcGIS Online Map Viewer
ArcGIS Earth
Service Description: Image/Sanborn1890_S11_tif
Name: Image/Sanborn1890_S11_tif
Description:
Single Fused Map Cache: false
Extent:
XMin: -111.84104265084925
YMin: 41.72798984542421
XMax: -111.83686035627608
YMax: 41.731579390707935
Spatial Reference: 4326
(4326)
VCSWkid(5773)
LatestVCSWkid(5773)
Initial Extent:
XMin: -111.84104265084925
YMin: 41.72798984542421
XMax: -111.83686035627608
YMax: 41.731579390707935
Spatial Reference: 4326
(4326)
VCSWkid(5773)
LatestVCSWkid(5773)
Full Extent:
XMin: -111.84104265084925
YMin: 41.72798984542421
XMax: -111.83686035627608
YMax: 41.731579390707935
Spatial Reference: 4326
(4326)
VCSWkid(5773)
LatestVCSWkid(5773)
Pixel Size X: 7.312982292655259E-7
Pixel Size Y: 7.297306939873539E-7
Band Count: 3
Pixel Type: U8
RasterFunction Infos: {"rasterFunctionInfos": [{
"name": "None",
"description": "",
"help": ""
}]}
Mensuration Capabilities: Basic
Inspection Capabilities:
Has Histograms: true
Has Colormap: false
Has Multi Dimensions : false
Rendering Rule:
Min Scale: 0
Max Scale: 0
Copyright Text:
Service Data Type: esriImageServiceDataTypeRGB
Min Values: 0, 0, 0
Max Values: 254, 254, 254
Mean Values: 230.59528299615, 228.55267332647, 213.60124391996
Standard Deviation Values: 30.697096540305, 28.988757310015, 30.16798902465
Object ID Field:
Fields:
None
Default Mosaic Method: Center
Allowed Mosaic Methods:
SortField:
SortValue: null
Mosaic Operator: First
Default Compression Quality: 75
Default Resampling Method: Bilinear
Max Record Count: null
Max Image Height: 4100
Max Image Width: 15000
Max Download Image Count: null
Max Mosaic Image Count: null
Allow Raster Function: true
Allow Copy: true
Allow Analysis: true
Allow Compute TiePoints: false
Supports Statistics: false
Supports Advanced Queries: false
Use StandardizedQueries: true
Raster Type Infos:
Name: Raster Dataset
Description: Supports all ArcGIS Raster Datasets
Help:
Has Raster Attribute Table: false
Edit Fields Info: null
Ownership Based AccessControl For Rasters: null
Child Resources:
Info
Histograms
Statistics
Key Properties
Legend
Raster Function Infos
Supported Operations:
Export Image
Identify
Measure
Compute Histograms
Compute Statistics Histograms
Get Samples
Compute Class Statistics
Query Boundary
Compute Pixel Location
Compute Angles
Validate
Project