View In:
ArcGIS JavaScript
ArcGIS Online Map Viewer
ArcGIS Earth
Service Description: Image/Sanborn1900_S7_tif
Name: Image/Sanborn1900_S7_tif
Description:
Single Fused Map Cache: false
Extent:
XMin: -111.83564718160981
YMin: 41.73326138515609
XMax: -111.83152880401053
YMax: 41.7371241849729
Spatial Reference: 4326
(4326)
VCSWkid(5773)
LatestVCSWkid(5773)
Initial Extent:
XMin: -111.83564718160981
YMin: 41.73326138515609
XMax: -111.83152880401053
YMax: 41.7371241849729
Spatial Reference: 4326
(4326)
VCSWkid(5773)
LatestVCSWkid(5773)
Full Extent:
XMin: -111.83564718160981
YMin: 41.73326138515609
XMax: -111.83152880401053
YMax: 41.7371241849729
Spatial Reference: 4326
(4326)
VCSWkid(5773)
LatestVCSWkid(5773)
Pixel Size X: 7.445990958747898E-7
Pixel Size Y: 7.419899763365634E-7
Band Count: 3
Pixel Type: U8
RasterFunction Infos: {"rasterFunctionInfos": [{
"name": "None",
"description": "",
"help": ""
}]}
Mensuration Capabilities: Basic
Inspection Capabilities:
Has Histograms: true
Has Colormap: false
Has Multi Dimensions : false
Rendering Rule:
Min Scale: 0
Max Scale: 0
Copyright Text:
Service Data Type: esriImageServiceDataTypeRGB
Min Values: 0, 0, 0
Max Values: 254, 254, 254
Mean Values: 217.37290369997, 212.43571550252, 189.76129230692
Standard Deviation Values: 29.813267044865, 32.069362379524, 35.331004919367
Object ID Field:
Fields:
None
Default Mosaic Method: Center
Allowed Mosaic Methods:
SortField:
SortValue: null
Mosaic Operator: First
Default Compression Quality: 75
Default Resampling Method: Bilinear
Max Record Count: null
Max Image Height: 4100
Max Image Width: 15000
Max Download Image Count: null
Max Mosaic Image Count: null
Allow Raster Function: true
Allow Copy: true
Allow Analysis: true
Allow Compute TiePoints: false
Supports Statistics: false
Supports Advanced Queries: false
Use StandardizedQueries: true
Raster Type Infos:
Name: Raster Dataset
Description: Supports all ArcGIS Raster Datasets
Help:
Has Raster Attribute Table: false
Edit Fields Info: null
Ownership Based AccessControl For Rasters: null
Child Resources:
Info
Histograms
Statistics
Key Properties
Legend
Raster Function Infos
Supported Operations:
Export Image
Identify
Measure
Compute Histograms
Compute Statistics Histograms
Get Samples
Compute Class Statistics
Query Boundary
Compute Pixel Location
Compute Angles
Validate
Project